BEGIN:VCALENDAR
X-LOTUS-CHARSET:UTF-8
VERSION:2.0
PRODID:-//unihamburg/mundry
METHOD:PUBLISH
BEGIN:VTIMEZONE
TZID:Europe/Berlin
X-LIC-LOCATION:Europe/Berlin
BEGIN:DAYLIGHT
TZOFFSETFROM:+0100
TZOFFSETTO:+0200
TZNAME:CEST
DTSTART:19700329T020000
RRULE:FREQ=YEARLY;INTERVAL=1;BYDAY=-1SU;BYMONTH=3
END:DAYLIGHT
BEGIN:STANDARD
TZOFFSETFROM:+0200
TZOFFSETTO:+0100
TZNAME:CET
DTSTART:19701025T030000
RRULE:FREQ=YEARLY;INTERVAL=1;BYDAY=-1SU;BYMONTH=10
END:STANDARD
END:VTIMEZONE
BEGIN:VEVENT
UID:133715
CLASS:PUBLIC
SUMMARY:Disputation: Lorenz Kuger „Comp. Uncertainty Quantification in Imaging - Methods and Appl. for Nuclear Decommissioning”
DTSTART;TZID=Europe/Berlin:20260423T090000DTSTAMP:20260420T1511Z
DESCRIPTION:Einladung zur hochschulöffentlichen teils-digitalen Disputation im Rahmen des Promotionsvorhabens von\nHerrn Lorenz Kuger\nTitel der Dissertation: „Computational Uncertainty Quantification in Imaging - Methods and Applications for Nuclear Decommissioning”\n\n
LOCATION:, Sedanstraße 19, 20146 Hamburg, Raum 205
END:VEVENT
END:VCALENDAR
