BEGIN:VCALENDAR
X-LOTUS-CHARSET:UTF-8
VERSION:2.0
PRODID:-//unihamburg/mundry
METHOD:PUBLISH
BEGIN:VTIMEZONE
TZID:Europe/Berlin
X-LIC-LOCATION:Europe/Berlin
BEGIN:DAYLIGHT
TZOFFSETFROM:+0100
TZOFFSETTO:+0200
TZNAME:CEST
DTSTART:19700329T020000
RRULE:FREQ=YEARLY;INTERVAL=1;BYDAY=-1SU;BYMONTH=3
END:DAYLIGHT
BEGIN:STANDARD
TZOFFSETFROM:+0200
TZOFFSETTO:+0100
TZNAME:CET
DTSTART:19701025T030000
RRULE:FREQ=YEARLY;INTERVAL=1;BYDAY=-1SU;BYMONTH=10
END:STANDARD
END:VTIMEZONE
BEGIN:VEVENT
UID:133675
CLASS:PUBLIC
SUMMARY:Festkolloquium zur Verleihung der Seniorprofessur für Jan Louis
DTSTART;TZID=Europe/Berlin:20260421T160000DTSTAMP:20260421T2310Z
DESCRIPTION:Wir freuen uns, Sie zu einem Sonderkolloquium der Universität Hamburg und DESY einzuladen. Diese Veranstaltung ist ein besonderer Anlass – Prof. Jan Louis wird in Anerkennung seiner innovativen Lehrkonzepte im Bereich der Physik mit der Wilhelm-und-Else-Heraeus-Seniorprofessur ausgezeichnet.\nProgramm:\n- Begrüßung: Prof. Beate Heinemann (DESY), Dr. Rolf Greve (FHH), Prof. Thilo Böhmann (UHH)- Preisverleihung, ausgerichtet von der Wilhelm-und-Else-Heraeus-Stiftung- Kolloquiumsvortrag: „Strings, the Swampland and Primordial Black Holes“ von Prof. Dieter Lüst (Max-Planck-Institut für Physik, Garching/München)Zusammenfassung: Dieses Kolloquium bietet eine Einführung in die Quantengravitation und ihre Umsetzung in der Stringtheorie. Während die Stringtheorie eine riesige Landschaft konsistenter Vakuumzustände vorhersagt, ist eine noch größere Menge von Niedrigenergie-Theorien – das sogenannte Swampland – mit den Schlüsselprinzipien der Quantengravitation unvereinbar. Der Vortrag beleuchtet einige dieser Swampland-Prinzipien und untersucht ihre Auswirkungen auf dunkle Energie, dunkle Materie und primordiale Schwarze Löcher.\nIm Anschluss an das Programm findet ab ca. 18:00 Uhr ein Empfang im Anbau der DESY-Kantine statt. \nAus organisatorischen Gründen bitten wir Sie, sich vorab unter https://umfragen.uni-hamburg.de/index.php/835585?lang=en anzumelden. \nAlternativ besteht die Möglichkeit, online dabei zu sein:https://desy.zoom.us/j/99616528733Meeting ID: 996 1652 8733Meeting Password: 733220 \nWir würden uns sehr freuen, Sie begrüßen zu dürfen, und freuen uns auf Ihre Teilnahme.\n
LOCATION:, Notkestraße 85, 22607 Hamburg, DESY Auditorium
END:VEVENT
END:VCALENDAR
