BEGIN:VCALENDAR
X-LOTUS-CHARSET:UTF-8
VERSION:2.0
PRODID:-//unihamburg/mundry
METHOD:PUBLISH
BEGIN:VTIMEZONE
TZID:Europe/Berlin
X-LIC-LOCATION:Europe/Berlin
BEGIN:DAYLIGHT
TZOFFSETFROM:+0100
TZOFFSETTO:+0200
TZNAME:CEST
DTSTART:19700329T020000
RRULE:FREQ=YEARLY;INTERVAL=1;BYDAY=-1SU;BYMONTH=3
END:DAYLIGHT
BEGIN:STANDARD
TZOFFSETFROM:+0200
TZOFFSETTO:+0100
TZNAME:CET
DTSTART:19701025T030000
RRULE:FREQ=YEARLY;INTERVAL=1;BYDAY=-1SU;BYMONTH=10
END:STANDARD
END:VTIMEZONE
BEGIN:VEVENT
UID:133232
CLASS:PUBLIC
SUMMARY:Kolloquium über Angewandte Mathematik: Prof. Dr. Marlies Gerber
DTSTART;TZID=Europe/Berlin:20260702T143000DTSTAMP:20260424T0002Z
DESCRIPTION:Lothar-Collatz-Kolloquium über Angewandte Mathematik\nVortragender: Prof. Dr. Marlies Gerber (University Indiana Bloomington)\nVortragstitel: Anti-Classification Results for Flows Up to Time Change\nAbstract: PDF\n
LOCATION:Fachbereich Mathematik, Bundesstraße 55, 20146 Hamburg, Hörsaal 2
END:VEVENT
END:VCALENDAR
